BEGIN:VCALENDAR
VERSION:2.0
PRODID:-//Broome Manor Golf Club - ECPv6.15.20//NONSGML v1.0//EN
CALSCALE:GREGORIAN
METHOD:PUBLISH
X-ORIGINAL-URL:https://bmgc.co.uk
X-WR-CALDESC:Events for Broome Manor Golf Club
REFRESH-INTERVAL;VALUE=DURATION:PT1H
X-Robots-Tag:noindex
X-PUBLISHED-TTL:PT1H
BEGIN:VTIMEZONE
TZID:Europe/London
BEGIN:DAYLIGHT
TZOFFSETFROM:+0000
TZOFFSETTO:+0100
TZNAME:BST
DTSTART:20210328T010000
END:DAYLIGHT
BEGIN:STANDARD
TZOFFSETFROM:+0100
TZOFFSETTO:+0000
TZNAME:GMT
DTSTART:20211031T010000
END:STANDARD
BEGIN:DAYLIGHT
TZOFFSETFROM:+0000
TZOFFSETTO:+0100
TZNAME:BST
DTSTART:20220327T010000
END:DAYLIGHT
BEGIN:STANDARD
TZOFFSETFROM:+0100
TZOFFSETTO:+0000
TZNAME:GMT
DTSTART:20221030T010000
END:STANDARD
BEGIN:DAYLIGHT
TZOFFSETFROM:+0000
TZOFFSETTO:+0100
TZNAME:BST
DTSTART:20230326T010000
END:DAYLIGHT
BEGIN:STANDARD
TZOFFSETFROM:+0100
TZOFFSETTO:+0000
TZNAME:GMT
DTSTART:20231029T010000
END:STANDARD
END:VTIMEZONE
BEGIN:VEVENT
DTSTART;TZID=Europe/London:20220427T000000
DTEND;TZID=Europe/London:20220427T000000
DTSTAMP:20260421T115412
CREATED:20220206T225524Z
LAST-MODIFIED:20220206T225524Z
UID:1515-1651017600-1651017600@bmgc.co.uk
SUMMARY:Medal 1 Division
DESCRIPTION:Medal 1 Division
URL:https://bmgc.co.uk/event/medal-1-division-2/
LOCATION:Broom Manor Golf Complex\, 6 The Fairways\, Swindon\, Swindon\, SN3 1RG\, United Kingdom
CATEGORIES:MEDAL 1 DIVISION
END:VEVENT
BEGIN:VEVENT
DTSTART;TZID=Europe/London:20220413T000000
DTEND;TZID=Europe/London:20220413T000000
DTSTAMP:20260421T115412
CREATED:20220206T225428Z
LAST-MODIFIED:20220206T225428Z
UID:1501-1649808000-1649808000@bmgc.co.uk
SUMMARY:Medal 1 Division
DESCRIPTION:Medal 1 Division
URL:https://bmgc.co.uk/event/medal-1-division/
LOCATION:Broom Manor Golf Complex\, 6 The Fairways\, Swindon\, Swindon\, SN3 1RG\, United Kingdom
CATEGORIES:MEDAL 1 DIVISION
END:VEVENT
END:VCALENDAR